BEGIN:VCALENDAR
VERSION:2.0
PRODID:-//eventon.com NONSGML v1.0//EN
BEGIN:VEVENT
UID:69eb3b1b7751f
DTSTAMP:20260424T114251
DTSTART:20260413T153000Z
DTEND:20260413T170000Z
TZID:Europe/Berlin
LOCATION:Sankalpa Akademie 
SUMMARY:Aikido Grundlagen Training  ab 10 Jahren - Montags
DESCRIPTION: &#8230;noch freie Plätze &nbsp; &nbsp;\nhttps://magdeburg.wteo.org/events/avci-wing-tsun/var/ri-63.l-L1
URL:https://magdeburg.wteo.org/events/avci-wing-tsun/var/ri-63.l-L1
END:VEVENT
END:VCALENDAR