BEGIN:VCALENDAR
VERSION:2.0
PRODID:-//eventon.com NONSGML v1.0//EN
BEGIN:VEVENT
UID:69e74ba04f2ec
DTSTAMP:20260421T120416
DTSTART:20260106T163000Z
DTEND:20260106T180000Z
TZID:Europe/Berlin
LOCATION:Sankalpa Akademie 
SUMMARY:AVCI Wing Tsun
DESCRIPTION: &nbsp; &nbsp;\nhttps://magdeburg.wteo.org/events/avci-wing-tsun-copy/
URL:https://magdeburg.wteo.org/events/avci-wing-tsun-copy/
END:VEVENT
END:VCALENDAR