BEGIN:VCALENDAR
VERSION:2.0
PRODID:-//eventon.com NONSGML v1.0//EN
BEGIN:VEVENT
UID:69e73746d61b2
DTSTAMP:20260421T103726
DTSTART:20260122T163000Z
DTEND:20260122T173000Z
TZID:Europe/Berlin
LOCATION:Sankalpa Akademie 
SUMMARY:AVCI Escrima Donnerstags
DESCRIPTION: &nbsp; &nbsp;\nhttps://magdeburg.wteo.org/events/avci-escrima/var/ri-2.l-L1
URL:https://magdeburg.wteo.org/events/avci-escrima/var/ri-2.l-L1
END:VEVENT
END:VCALENDAR