BEGIN:VCALENDAR
VERSION:2.0
PRODID:-//eventon.com NONSGML v1.0//EN
BEGIN:VEVENT
UID:69eb27ba6f4d2
DTSTAMP:20260424T102010
DTSTART:20260806T153000Z
DTEND:20260806T163000Z
TZID:Europe/Berlin
LOCATION:Sankalpa Akademie 
SUMMARY:AVCI Escrima Donnerstags
DESCRIPTION: &nbsp; &nbsp;\nhttps://magdeburg.wteo.org/events/avci-escrima/var/ri-30.l-L1
URL:https://magdeburg.wteo.org/events/avci-escrima/var/ri-30.l-L1
END:VEVENT
END:VCALENDAR